BEGIN:VCALENDAR
VERSION:2.0
PRODID:-//eventon.com NONSGML v1.0//EN
BEGIN:VEVENT
UID:69e5dd2a77d87
DTSTAMP:20260420T040042
DTSTART:20201010T073000Z
DTEND:20201010T083000Z
TZID:UTC
LOCATION:Adrenaline Bike Works 206 N Highland St\,  Mt Dora\,  FL 32757
SUMMARY:South Hills Metric
DESCRIPTION: Ride with Rob Marens B pace Ride\nhttps://www.ridemountdora.com/events/south-hills-metric
URL:https://www.ridemountdora.com/events/south-hills-metric
END:VEVENT
END:VCALENDAR